BEGIN:VCALENDAR
VERSION:2.0
PRODID:-//Beatz of Electronic - ECPv6.15.20//NONSGML v1.0//EN
CALSCALE:GREGORIAN
METHOD:PUBLISH
X-WR-CALNAME:Beatz of Electronic
X-ORIGINAL-URL:https://beatz-of-electronic.de
X-WR-CALDESC:Veranstaltungen für Beatz of Electronic
REFRESH-INTERVAL;VALUE=DURATION:PT1H
X-Robots-Tag:noindex
X-PUBLISHED-TTL:PT1H
BEGIN:VTIMEZONE
TZID:Europe/Berlin
BEGIN:DAYLIGHT
TZOFFSETFROM:+0100
TZOFFSETTO:+0200
TZNAME:CEST
DTSTART:20240331T010000
END:DAYLIGHT
BEGIN:STANDARD
TZOFFSETFROM:+0200
TZOFFSETTO:+0100
TZNAME:CET
DTSTART:20241027T010000
END:STANDARD
BEGIN:DAYLIGHT
TZOFFSETFROM:+0100
TZOFFSETTO:+0200
TZNAME:CEST
DTSTART:20250330T010000
END:DAYLIGHT
BEGIN:STANDARD
TZOFFSETFROM:+0200
TZOFFSETTO:+0100
TZNAME:CET
DTSTART:20251026T010000
END:STANDARD
BEGIN:DAYLIGHT
TZOFFSETFROM:+0100
TZOFFSETTO:+0200
TZNAME:CEST
DTSTART:20260329T010000
END:DAYLIGHT
BEGIN:STANDARD
TZOFFSETFROM:+0200
TZOFFSETTO:+0100
TZNAME:CET
DTSTART:20261025T010000
END:STANDARD
END:VTIMEZONE
BEGIN:VEVENT
DTSTART;TZID=Europe/Berlin:20250517T080000
DTEND;TZID=Europe/Berlin:20250517T170000
DTSTAMP:20260423T002139
CREATED:20250307T143236Z
LAST-MODIFIED:20250307T143700Z
UID:10000213-1747468800-1747501200@beatz-of-electronic.de
SUMMARY:Awareness-Workshop: Veranstaltungen sicher gestalten
DESCRIPTION:Wie schaffen wir Veranstaltungen die sicher und frei von Ausgrenzung für alle sind?\nIn diesem praxisnahen Workshop erfährst du\, wie Awareness-Konzepte gezielt umgesetzt werden können. Du lernst\, Konflikte zu deeskalieren\, herausfordernde Situationen zu erkennen und Barrieren abzubauen – für eine wertschätzende und zugängliche Veranstaltungsatmosphäre. \nInhalte des Workshops \nGrundlagen von Awareness\n-> Sensibilisierung für Diskriminierung\, Machtverhältnisse und unbewusste Vorannahmen\n-> Bedeutung von Diversität & Barrierefreiheit auf Veranstaltungen \nKonfliktmanagement & Prävention\n-> Strategien zur Deeskalation von Konflikten\n-> Entwicklung klarer Handlungsrichtlinien \nBarrierefreiheit & Vielfalt\n-> Praktische Maßnahmen für eine inklusive Veranstaltungskultur\n-A Sensible & diskriminierungsfreie Kommunikation \nOrganisatorische Infos \nDauer: 6 Stunden (inkl. 1 Stunde Mittagspause)\nMax. Teilnehmende: 15 Personen\nAnmeldung: info@wir-sind-aktiv-hamburg.de \nDie Teilnahme ist kostenlos. Wer möchte\, kann den Workshop mit einer freiwilligen Spende unterstützen. \nMelde dich jetzt an und setze ein Zeichen für mehr Awareness auf Veranstaltungen!
URL:https://beatz-of-electronic.de/event/awareness-workshop-veranstaltungen-sicher-gestalten/
LOCATION:Brakula e. V.\, Bramfelder Chausee 265\, Hamburg\, 22177\, Germany
CATEGORIES:Vortrag
ATTACH;FMTTYPE=image/png:https://beatz-of-electronic.de/wp-content/uploads/2025/03/awarness-flyer.png
GEO:53.6152389;10.0757632
X-APPLE-STRUCTURED-LOCATION;VALUE=URI;X-ADDRESS=Brakula e. V. Bramfelder Chausee 265 Hamburg 22177 Germany;X-APPLE-RADIUS=500;X-TITLE=Bramfelder Chausee 265:geo:10.0757632,53.6152389
END:VEVENT
END:VCALENDAR