BEGIN:VCALENDAR
VERSION:2.0
PRODID:-//Beatz of Electronic - ECPv6.15.20//NONSGML v1.0//EN
CALSCALE:GREGORIAN
METHOD:PUBLISH
X-WR-CALNAME:Beatz of Electronic
X-ORIGINAL-URL:https://beatz-of-electronic.de
X-WR-CALDESC:Veranstaltungen für Beatz of Electronic
REFRESH-INTERVAL;VALUE=DURATION:PT1H
X-Robots-Tag:noindex
X-PUBLISHED-TTL:PT1H
BEGIN:VTIMEZONE
TZID:Europe/Berlin
BEGIN:DAYLIGHT
TZOFFSETFROM:+0100
TZOFFSETTO:+0200
TZNAME:CEST
DTSTART:20240331T010000
END:DAYLIGHT
BEGIN:STANDARD
TZOFFSETFROM:+0200
TZOFFSETTO:+0100
TZNAME:CET
DTSTART:20241027T010000
END:STANDARD
BEGIN:DAYLIGHT
TZOFFSETFROM:+0100
TZOFFSETTO:+0200
TZNAME:CEST
DTSTART:20250330T010000
END:DAYLIGHT
BEGIN:STANDARD
TZOFFSETFROM:+0200
TZOFFSETTO:+0100
TZNAME:CET
DTSTART:20251026T010000
END:STANDARD
BEGIN:DAYLIGHT
TZOFFSETFROM:+0100
TZOFFSETTO:+0200
TZNAME:CEST
DTSTART:20260329T010000
END:DAYLIGHT
BEGIN:STANDARD
TZOFFSETFROM:+0200
TZOFFSETTO:+0100
TZNAME:CET
DTSTART:20261025T010000
END:STANDARD
END:VTIMEZONE
BEGIN:VEVENT
DTSTART;TZID=Europe/Berlin:20251108T140000
DTEND;TZID=Europe/Berlin:20251108T200000
DTSTAMP:20260423T095839
CREATED:20251013T100452Z
LAST-MODIFIED:20251013T100453Z
UID:10000405-1762610400-1762632000@beatz-of-electronic.de
SUMMARY:Gemeinsames Kochen für Alle
DESCRIPTION:Gutes und gesundes Essen sollte für jeden zugänglich sein – ganz egal\, welche Mittel oder Möglichkeiten eins hat. Einmal im Monat laden wir zur „Küche für Alle“ ein\, wo wir gemeinsam kochen\, essen und einander begegnen. Ob du mit kochen\, einfach nur essen oder dich mit anderen austauschen möchtest – jeder ist herzlich willkommen und es gibt für jede*n etwas Passendes. Freiwillige Spenden helfen\, die Aktion weiterzuführen. Bringe gerne einen Behälter mit\, falls etwas übrig bleibt. Kommt gerne Corona-getestet und bleibt bitte zu Hause\, wenn ihr euch krank oder angeschlagen fühlt! Rauchen könnt ihr gerne draußen vor der Tür. Wir freuen uns auf dich und darauf\, gemeinsam schöne Momente zu erleben!
URL:https://beatz-of-electronic.de/event/gemeinsames-kochen-fuer-alle-5/
LOCATION:aao Hamburg\, Münzweg 8\, Hamburg\, 20097\, Germany
CATEGORIES:Küche für Alle
ATTACH;FMTTYPE=image/png:https://beatz-of-electronic.de/wp-content/uploads/2024/11/kueche-fuer-alle-flyer.png
GEO:53.5490331;10.0134149
X-APPLE-STRUCTURED-LOCATION;VALUE=URI;X-ADDRESS=aao Hamburg Münzweg 8 Hamburg 20097 Germany;X-APPLE-RADIUS=500;X-TITLE=Münzweg 8:geo:10.0134149,53.5490331
END:VEVENT
BEGIN:VEVENT
DTSTART;TZID=Europe/Berlin:20251108T230000
DTEND;TZID=Europe/Berlin:20251109T070000
DTSTAMP:20260423T095839
CREATED:20251013T095531Z
LAST-MODIFIED:20251105T111621Z
UID:10000464-1762642800-1762671600@beatz-of-electronic.de
SUMMARY:HARD PRESSURE – Soli-Rave für Awareness
DESCRIPTION:Hard Techno / Berlin Techno Night in der Roten Flora – 08.11.2025\nHart. Kompromisslos. Treibend.Am 08. November 2025 verwandelt sich die Rote Flora Hamburg in ein dunkles\, pulsierendes Kraftwerk – wo rohe Berlin-Techno-Grooves und treibende Hard-Techno-Beats dich tief in den Abgrund ziehen.Kein Entkommen. Kein Kompromiss. Nur Bass. \nDie Wände beben\, der Boden frisst deinen Herzschlag – hart\, kompromisslos und gnadenlos treibend.Nur purer\, roher Hard Techno\, der dich bis in die Morgenstunden antreibt – frech\, dreckig\, groovig – so wie es sein muss.In dieser Nacht regiert nur eines: der dunkle Druck von Hard Techno / Berlin Techno. \n\n⚠️ Awareness & Haltung\nAwareness ist Pflicht – kein Sexismus\, kein Rassismus\, keine Übergriffe.Respekt und Grenzen für alle.Ein Soli-Rave für Awareness\, um den Aufbau eines bundesweiten Awareness-Netzwerks zu unterstützen und kostenlose Schulungen zu ermöglichen.So wird Awareness auf Events gelebte Realität – respektvoll\, solidarisch\, grenzenachtend. \n💛 Mehr Infos:👉 wir-sind-aktiv.hamburg/awareness \n\n📡 Live-Streaming\n➡️ beatz-of-electronic.de➡️ music-for-ever.de➡️ foxies-funhouse.de \n🎧 On Air bei TIDE.radio\nLive in der Nacht von 2:00 bis 4:00 Uhrauf UKW 96\,0 MHz\, DAB+ und im Kabelnetz➡️ tidenet.de/RADIO
URL:https://beatz-of-electronic.de/event/hard-pressure-soli-rave-fuer-awareness/
LOCATION:Rote Flora Hamburg\, Schulterblatt 71\, Hamburg\, 22769\, Germany
CATEGORIES:Veranstaltung
ATTACH;FMTTYPE=image/jpeg:https://beatz-of-electronic.de/wp-content/uploads/2025/10/hard-pressure.jpg
ORGANIZER;CN="Beatz of Electronic":MAILTO:info@beatz-of-electronic.de
GEO:53.5620041;9.9614674
X-APPLE-STRUCTURED-LOCATION;VALUE=URI;X-ADDRESS=Rote Flora Hamburg Schulterblatt 71 Hamburg 22769 Germany;X-APPLE-RADIUS=500;X-TITLE=Schulterblatt 71:geo:9.9614674,53.5620041
END:VEVENT
END:VCALENDAR