BEGIN:VCALENDAR
VERSION:2.0
PRODID:-//Beatz of Electronic - ECPv6.15.20//NONSGML v1.0//EN
CALSCALE:GREGORIAN
METHOD:PUBLISH
X-WR-CALNAME:Beatz of Electronic
X-ORIGINAL-URL:https://beatz-of-electronic.de
X-WR-CALDESC:Veranstaltungen für Beatz of Electronic
REFRESH-INTERVAL;VALUE=DURATION:PT1H
X-Robots-Tag:noindex
X-PUBLISHED-TTL:PT1H
BEGIN:VTIMEZONE
TZID:Europe/Berlin
BEGIN:DAYLIGHT
TZOFFSETFROM:+0100
TZOFFSETTO:+0200
TZNAME:CEST
DTSTART:20230326T010000
END:DAYLIGHT
BEGIN:STANDARD
TZOFFSETFROM:+0200
TZOFFSETTO:+0100
TZNAME:CET
DTSTART:20231029T010000
END:STANDARD
BEGIN:DAYLIGHT
TZOFFSETFROM:+0100
TZOFFSETTO:+0200
TZNAME:CEST
DTSTART:20240331T010000
END:DAYLIGHT
BEGIN:STANDARD
TZOFFSETFROM:+0200
TZOFFSETTO:+0100
TZNAME:CET
DTSTART:20241027T010000
END:STANDARD
BEGIN:DAYLIGHT
TZOFFSETFROM:+0100
TZOFFSETTO:+0200
TZNAME:CEST
DTSTART:20250330T010000
END:DAYLIGHT
BEGIN:STANDARD
TZOFFSETFROM:+0200
TZOFFSETTO:+0100
TZNAME:CET
DTSTART:20251026T010000
END:STANDARD
END:VTIMEZONE
BEGIN:VEVENT
DTSTART;TZID=Europe/Berlin:20240501T110000
DTEND;TZID=Europe/Berlin:20240501T130000
DTSTAMP:20260425T122805
CREATED:20240423T102935Z
LAST-MODIFIED:20240423T102935Z
UID:10000022-1714561200-1714568400@beatz-of-electronic.de
SUMMARY:Stunt Movie Production -TOUR 2024-
DESCRIPTION:Gino Winter präsentiert die Stunt Movie Production Super-Monster-Action-Show. Eine neue Show voller Live-Stunts mit Autos\, Quads\, Motorrädern und kolossalen Monstertrucks! \nDie Stunt Movie Production ist ein Stuntshow\, die seit 18 Jahren durch ganz Europa reist. Nach Frankreich\, Belgien\, Deutschland\, Luxemburg\, Polen und Südamerika wird die Gruppe eine Tournee mit ihrer Show “Monster-Action” durch die Niederlande durchführen. Familie Winter ist seit über 56 Jahren aktiv mit Stunt-Shows unterwegs. \nIn 120 Minuten präsentiert die Stunt Movie Production ihren Zuschauern eine eindrucksvolle Live-Show mit qualmenden Reifen\, spektakulären Crashes und Kamikaze-Sprung. Inhaber Gino Winter und sein zehnköpfiges Team zeigen waghalsige Fahrmanöver\, atemberaubende Stunts und produzieren jede Menge Blechschaden. \nMotorräder\, Quads\, Autos und die bekannten Monster-Trucks mit ihren riesigen Reifen zählen zu den Requisiten\, die Gino Winter und seine Stuntmen mitbringen. Motorrad-Weitsprünge\, spektakuläre Auto-Zusammenstöße und Quad-Freestyle begeistern immer wieder die Zuschauer. Mit fahrerischem Geschick kutschieren Gino Winter und sein Team die Autos auf nur zwei Rädern über das Gelände. Bei provozierten Autoüberschlägen und Frontal-Crashes fordern die Akteure das Schicksal immer wieder aufs Neue heraus. \nAm Ende der Show kommen die Monster-Trucks mit ihren überdimensionalen Riesenreifen zum Einsatz und geben mit der Kraft von 1200 PS den Schrottautos noch mal den letzten Rest. \nWährend der Show wird Bewirtung mit Bratwurst\, Pommes\, Popcorn etc. und Getränken angeboten – auch sind Souvenirs erhältlich.
URL:https://beatz-of-electronic.de/event/stunt-movie-production-tour-2024/2024-05-01/1/
LOCATION:Gelsenkirchen\, Ulrichstraße 10\, Gelsenkirchen\, Nordrhein-Westfalen\, 45891
CATEGORIES:Stuntshow
ATTACH;FMTTYPE=image/jpeg:https://beatz-of-electronic.de/wp-content/uploads/2024/04/stunt_show.jpg
GEO:51.5504789;7.0869353
X-APPLE-STRUCTURED-LOCATION;VALUE=URI;X-ADDRESS=Gelsenkirchen Ulrichstraße 10 Gelsenkirchen Nordrhein-Westfalen 45891;X-APPLE-RADIUS=500;X-TITLE=Ulrichstraße 10:geo:7.0869353,51.5504789
END:VEVENT
BEGIN:VEVENT
DTSTART;TZID=Europe/Berlin:20240501T160000
DTEND;TZID=Europe/Berlin:20240501T180000
DTSTAMP:20260425T122805
CREATED:20240423T102935Z
LAST-MODIFIED:20240423T102935Z
UID:10000023-1714579200-1714586400@beatz-of-electronic.de
SUMMARY:Stunt Movie Production -TOUR 2024-
DESCRIPTION:Gino Winter präsentiert die Stunt Movie Production Super-Monster-Action-Show. Eine neue Show voller Live-Stunts mit Autos\, Quads\, Motorrädern und kolossalen Monstertrucks! \nDie Stunt Movie Production ist ein Stuntshow\, die seit 18 Jahren durch ganz Europa reist. Nach Frankreich\, Belgien\, Deutschland\, Luxemburg\, Polen und Südamerika wird die Gruppe eine Tournee mit ihrer Show “Monster-Action” durch die Niederlande durchführen. Familie Winter ist seit über 56 Jahren aktiv mit Stunt-Shows unterwegs. \nIn 120 Minuten präsentiert die Stunt Movie Production ihren Zuschauern eine eindrucksvolle Live-Show mit qualmenden Reifen\, spektakulären Crashes und Kamikaze-Sprung. Inhaber Gino Winter und sein zehnköpfiges Team zeigen waghalsige Fahrmanöver\, atemberaubende Stunts und produzieren jede Menge Blechschaden. \nMotorräder\, Quads\, Autos und die bekannten Monster-Trucks mit ihren riesigen Reifen zählen zu den Requisiten\, die Gino Winter und seine Stuntmen mitbringen. Motorrad-Weitsprünge\, spektakuläre Auto-Zusammenstöße und Quad-Freestyle begeistern immer wieder die Zuschauer. Mit fahrerischem Geschick kutschieren Gino Winter und sein Team die Autos auf nur zwei Rädern über das Gelände. Bei provozierten Autoüberschlägen und Frontal-Crashes fordern die Akteure das Schicksal immer wieder aufs Neue heraus. \nAm Ende der Show kommen die Monster-Trucks mit ihren überdimensionalen Riesenreifen zum Einsatz und geben mit der Kraft von 1200 PS den Schrottautos noch mal den letzten Rest. \nWährend der Show wird Bewirtung mit Bratwurst\, Pommes\, Popcorn etc. und Getränken angeboten – auch sind Souvenirs erhältlich.
URL:https://beatz-of-electronic.de/event/stunt-movie-production-tour-2024/2024-05-01/2/
LOCATION:Gelsenkirchen\, Ulrichstraße 10\, Gelsenkirchen\, Nordrhein-Westfalen\, 45891
CATEGORIES:Stuntshow
ATTACH;FMTTYPE=image/jpeg:https://beatz-of-electronic.de/wp-content/uploads/2024/04/stunt_show.jpg
GEO:51.5504789;7.0869353
X-APPLE-STRUCTURED-LOCATION;VALUE=URI;X-ADDRESS=Gelsenkirchen Ulrichstraße 10 Gelsenkirchen Nordrhein-Westfalen 45891;X-APPLE-RADIUS=500;X-TITLE=Ulrichstraße 10:geo:7.0869353,51.5504789
END:VEVENT
BEGIN:VEVENT
DTSTART;VALUE=DATE:20240504
DTEND;VALUE=DATE:20240505
DTSTAMP:20260425T122805
CREATED:20240417T170907Z
LAST-MODIFIED:20240418T072027Z
UID:10000005-1714780800-1714867199@beatz-of-electronic.de
SUMMARY:CSD Aurich
DESCRIPTION:In diesem Jahr wird der CSD in Aurich früher als sonst begangen. Aber auch das Jubiläum in 2025 haben wir bereits für uns und euch im Blick.
URL:https://beatz-of-electronic.de/event/csd-aurich/
LOCATION:Aurich\, Norderstraße 100\, Aurich\, Niedersachsen\, 26603\, Germany
CATEGORIES:CSD
ATTACH;FMTTYPE=image/jpeg:https://beatz-of-electronic.de/wp-content/uploads/2024/04/283799687_4880196768755724_3948749938783535337_n.jpg
GEO:53.4720733;7.4829978
X-APPLE-STRUCTURED-LOCATION;VALUE=URI;X-ADDRESS=Aurich Norderstraße 100 Aurich Niedersachsen 26603 Germany;X-APPLE-RADIUS=500;X-TITLE=Norderstraße 100:geo:7.4829978,53.4720733
END:VEVENT
END:VCALENDAR