BEGIN:VCALENDAR
VERSION:2.0
PRODID:-//Beatz of Electronic - ECPv6.15.20//NONSGML v1.0//EN
CALSCALE:GREGORIAN
METHOD:PUBLISH
X-ORIGINAL-URL:https://beatz-of-electronic.de
X-WR-CALDESC:Veranstaltungen für Beatz of Electronic
REFRESH-INTERVAL;VALUE=DURATION:PT1H
X-Robots-Tag:noindex
X-PUBLISHED-TTL:PT1H
BEGIN:VTIMEZONE
TZID:Europe/Berlin
BEGIN:DAYLIGHT
TZOFFSETFROM:+0100
TZOFFSETTO:+0200
TZNAME:CEST
DTSTART:20230326T010000
END:DAYLIGHT
BEGIN:STANDARD
TZOFFSETFROM:+0200
TZOFFSETTO:+0100
TZNAME:CET
DTSTART:20231029T010000
END:STANDARD
BEGIN:DAYLIGHT
TZOFFSETFROM:+0100
TZOFFSETTO:+0200
TZNAME:CEST
DTSTART:20240331T010000
END:DAYLIGHT
BEGIN:STANDARD
TZOFFSETFROM:+0200
TZOFFSETTO:+0100
TZNAME:CET
DTSTART:20241027T010000
END:STANDARD
BEGIN:DAYLIGHT
TZOFFSETFROM:+0100
TZOFFSETTO:+0200
TZNAME:CEST
DTSTART:20250330T010000
END:DAYLIGHT
BEGIN:STANDARD
TZOFFSETFROM:+0200
TZOFFSETTO:+0100
TZNAME:CET
DTSTART:20251026T010000
END:STANDARD
END:VTIMEZONE
BEGIN:VEVENT
DTSTART;TZID=Europe/Berlin:20241221T220000
DTEND;TZID=Europe/Berlin:20241222T050000
DTSTAMP:20260425T140131
CREATED:20241118T204029Z
LAST-MODIFIED:20241118T204029Z
UID:10000211-1734818400-1734843600@beatz-of-electronic.de
SUMMARY:Psy Cosmica
DESCRIPTION:❤️Psy Cosmica❤️\nHallo liebe Freunde der psychedelischen Tanzmusic\,\nwir laden zu einer weiteren Veranstaltung von Beatz of Electronic und dem Team von Laugh and Dance & Cosmica – Events ein.\nWir entführen Euch in eine fantastische Traumwelt voller psychedelischer farbenprächtiger Dekoration und nehmen Euch mit auf eine musikalische Reise durch die psychedelischen Musikrichtungen. Von Psy-Prog bis hin zu Progressive Psy\, über Psytrance\, Full On und Psychedelic wird für jeden Psy-Liebhaber musikalisch etwas geboten werden! Seid gespannt und lasst Euch überraschen und verzaubern. ✨\n*******\nDieses Mal konnten wir die wundervolle und zentrale Location “Rota Flora” für Euch ergattern. Es wird 1 Dancefloor dort geben\, wir bauen aber Sitzmöglichkeiten zum Chillen\, Sitzen und zum Unterhalten auf einer 2nd Stage auf.\n*********\nDas Event wird Online und im Radio live gestreamt. Die Links dazu kommen in einem extra Post.\n**********\nDas Line Up ist closed-Bitte keine weiteren Anfragen mehr!\n**********\nDeko by\n✨ Artfreaks ✨\n? https://www.facebook.com/share/18DfczrsVn/?mibextid=LQQJ4d\n**********\nLights and Visuals by\n✨ Magic Cosmica ✨\n? https://www.facebook.com/share/1BAJTdYN4h/?mibextid=LQQJ4d\n**********\nLine Up:\n✨ Psy Monkey (Dance ?️ Friends) ✨\n? https://on.soundcloud.com/hZuN1jWawajHSz9UA\n? https://www.facebook.com/profile.php?id=100063639997567\n✨ DJane Melburn (Y.S.E. Rec. / England + Landmark Rec.) ✨\n? https://on.soundcloud.com/mDzAbzZuH5Sd7ckt6\n? https://www.facebook.com/share/14Z2fjsLEw/?mibextid=LQQJ4d\n✨ DJ Braindance (Upward Records) ✨\n? https://on.soundcloud.com/7Q7A1wsTHtL1953t5\n? https://www.facebook.com/share/1Gd3zq9V3j/?mibextid=LQQJ4d\n✨ Miss Nansix (Y.S.E. Rec. / DANCE to TRANCE – Booking) ✨\n? https://m.mixcloud.com/MissNansix/\n? https://m.facebook.com/MissNansixOfficial/\n✨ C0DE8 (Independent) ✨\n? https://on.soundcloud.com/ZfKxguDVpt3akbSj9\n? https://www.facebook.com/c0de8.music\n*****\nAb 18 Jahren!!!\n*****\nCentral location – 1 Floor – 5 fantastic Psy Acts – professional colorful decoration – amazing sound system – Garderobe – Awareness – Stoffbändchen – Live Stream Radio – Live Stream Internet – fresh fruits for free – 8 hours Party non-stop\n*****\n✨ ???????? ✨\nRote Flora\nSchulterblatt 71\n20357 Hamburg\nBahnstation: Sternschanze\n*****\n✨ Samstag\, 21.12.2024 22:00-06:00 Uhr✨\n*****\n✨ ?????? ???? ??????? & ???? ?? ?????? ?? ??????! ✨\n*****\nno drugs!\nno racism!\nno antisemitism!\nno sexism!\nno kids!\nno fascism!\nno stress!\nno homophobia!\nno discussion!\n*****\n????????̈??? ??? ???? ????? und kauft eure Getränke an der Bar.\n*****\nWir freuen uns auf Euch!!!\nPsychedelic greatings \,\nEure Teams von Beatz of Electronic\, Laugh and Dance & Cosmica – Events\n*****\nFolgt unseren Pages und bleibt immer up to date❣️ \nHome \n\nhttps://www.facebook.com/share/p3PSL6Gs6kcHtG9V/?mibextid=LQQJ4d\nhttps://www.facebook.com/share/TGgZxEVTdaUgop9j/?mibextid=LQQJ4d
URL:https://beatz-of-electronic.de/event/psy-cosmica/
LOCATION:Rote Flora Hamburg\, Schulterblatt 71\, Hamburg\, 22769\, Germany
CATEGORIES:Psytrance
ATTACH;FMTTYPE=image/jpeg:https://beatz-of-electronic.de/wp-content/uploads/2024/11/psy-cosmica.jpg
ORGANIZER;CN="Beatz of Electronic":MAILTO:info@beatz-of-electronic.de
GEO:53.5620041;9.9614674
X-APPLE-STRUCTURED-LOCATION;VALUE=URI;X-ADDRESS=Rote Flora Hamburg Schulterblatt 71 Hamburg 22769 Germany;X-APPLE-RADIUS=500;X-TITLE=Schulterblatt 71:geo:9.9614674,53.5620041
END:VEVENT
END:VCALENDAR